BEGIN:VCALENDAR
VERSION:2.0
PRODID:-//wp-events-plugin.com//7.2.3.1//EN
BEGIN:VEVENT
UID:19@relationshiptherapyinc.com
DTSTART;TZID=Pacific/Auckland:20230821T084500
DTEND;TZID=Pacific/Auckland:20230822T170000
DTSTAMP:20221018T193151Z
URL:https://relationshiptherapyinc.com/events/affairs-infidelity-relations
 hip/
SUMMARY:Affairs\, Infidelity & Relationship
DESCRIPTION:How to work with crises of trust and respect\n\nDealing with th
 e shock\, hurt\, anger\, defensiveness and confusion around infidelity is 
 one of the most challenging things to have in your therapy room.  Learn h
 ow it can also be one of the most rewarding!  Whether you work with coupl
 es or individuals this workshop will increase your confidence and your com
 petence in addressing this complex and emotionally charged issue.\n\nBOOK 
 EARLY AND SAVE $50 - just enter the coupon code "earlybirdair"\n\nIn this 
 dynamic and practical two-day workshop you will learn key assessment targe
 ts and straightforward interventions that can settle your client(s) right 
 down and give them the best possible chance to turn this crisis into growt
 h\, learning and deeper intimacy.\n\n&nbsp\;\n\nTopics covered will inclu
 de:\n\n 	How to talk about and deal with trust issues\n 	Assessing which o
 f the many flavours and faces of infidelity you are dealing with\n 	Tailor
 ing interventions to a person’s developmental level\n 	Helping both part
 ies to have a realistic and deep understanding of how and why the infideli
 ty happened\n 	Recognising and naming who is responsible for what – work
 ing with infidelity in the context of broader relationship dynamics\n 	W
 hat is and what isn’t a deal-breaker\n 	Working with extreme emotional 
 responses\n 	The impact on YOU of this issue – your views and history wi
 th infidelity and trust\n\nIf you want a taste of the workshop check out t
 his blog from 2018 that explores what the definition of infidelity is (i
 t may surprise you how simple it can be).\n\nIf you are booking\, please r
 emember to scroll ALL the way down and click on the “Send Your Booking
 ” button\nWe are offering an early bird price of $520 until July 24th 20
 23.\n\nEnter the coupon code "earlybirdair" below to apply the early bird 
 discount.
ATTACH;FMTTYPE=image/jpeg:https://relationshiptherapyinc.com/wp-content/up
 loads/2022/10/25968672_s.jpg
CATEGORIES:2 Day Workshop
LOCATION:Sorrento in the Park\, 670 Manukau Rd\, Royal Oak\, 1023\, Aucklan
 d\, New Zealand
X-APPLE-STRUCTURED-LOCATION;VALUE=URI;X-ADDRESS=670 Manukau Rd\, Royal Oak\
 , 1023\, Auckland\, New Zealand;X-APPLE-RADIUS=100;X-TITLE=Sorrento in the
  Park:geo:0,0
END:VEVENT
BEGIN:VTIMEZONE
TZID:Pacific/Auckland
X-LIC-LOCATION:Pacific/Auckland
BEGIN:STANDARD
DTSTART:20230402T020000
TZOFFSETFROM:+1300
TZOFFSETTO:+1200
TZNAME:NZST
END:STANDARD
END:VTIMEZONE
END:VCALENDAR