BEGIN:VCALENDAR
VERSION:2.0
PRODID:-//wp-events-plugin.com//7.2.3.1//EN
BEGIN:VEVENT
UID:6@relationshiptherapyinc.com
DTSTART;TZID=Pacific/Auckland:20210419T090000
DTEND;TZID=Pacific/Auckland:20210419T170000
DTSTAMP:20210211T050133Z
URL:https://relationshiptherapyinc.com/events/case-discussion-day-1-april/
SUMMARY:Case Discussion Day 1 - April
DESCRIPTION:Our case discussion days are a very special opportunity for you
  to bring along a challenging case and explore it in a safe environment. 
  Doing therapy with a tough couple is hard work.  Bring a difficult case 
 along so you can maximise your learning from all that hard work you are do
 ing.\n\nOpen to anyone who has done training in the Developmental model\, 
 this is a unique opportunity to learn through the exploration of real case
 s – yours and those of your colleagues.  Many past participants have co
 mmented that they learn as much from the discussion about others' cases as
  from working on their own.\n\nTo ensure that everyone gets enough time\, 
 numbers are limited to 15\, so don’t miss out.\n\nPlease note we will be
  assuming a basic knowledge of the Developmental Model concepts and tools 
 – that does mean it’s ONLY for those who have completed at least Level
  1 in the Developmental Model.  If you haven’t yet – you can do that 
 in May in Christchurch or June in Auckland.  You could then attend our se
 cond Case Discussion Day in October.\n\nIf  you are trying to book please
  make sure you scroll all the way down and click on the "Send your booking
 " button
CATEGORIES:1 Day Workshop
LOCATION:Sorrento in the Park\, 670 Manukau Rd\, Royal Oak\, 1023\, Aucklan
 d\, New Zealand
X-APPLE-STRUCTURED-LOCATION;VALUE=URI;X-ADDRESS=670 Manukau Rd\, Royal Oak\
 , 1023\, Auckland\, New Zealand;X-APPLE-RADIUS=100;X-TITLE=Sorrento in the
  Park:geo:0,0
END:VEVENT
BEGIN:VTIMEZONE
TZID:Pacific/Auckland
X-LIC-LOCATION:Pacific/Auckland
BEGIN:STANDARD
DTSTART:20210404T020000
TZOFFSETFROM:+1300
TZOFFSETTO:+1200
TZNAME:NZST
END:STANDARD
END:VTIMEZONE
END:VCALENDAR